BEGIN:VCALENDAR
VERSION:2.0
PRODID:-//Lauschangriff - Laut Gut Legal - ECPv6.14.0//NONSGML v1.0//EN
CALSCALE:GREGORIAN
METHOD:PUBLISH
X-ORIGINAL-URL:https://lauschangriff-lautgutlegal.de
X-WR-CALDESC:Veranstaltungen für Lauschangriff - Laut Gut Legal
REFRESH-INTERVAL;VALUE=DURATION:PT1H
X-Robots-Tag:noindex
X-PUBLISHED-TTL:PT1H
BEGIN:VTIMEZONE
TZID:UTC
BEGIN:STANDARD
TZOFFSETFROM:+0000
TZOFFSETTO:+0000
TZNAME:UTC
DTSTART:20190101T000000
END:STANDARD
END:VTIMEZONE
BEGIN:VEVENT
DTSTART;TZID=UTC:20190323T190000
DTEND;TZID=UTC:20190323T190000
DTSTAMP:20260423T122359
CREATED:20190309T094245Z
LAST-MODIFIED:20190905T092138Z
UID:87-1553367600-1553367600@lauschangriff-lautgutlegal.de
SUMMARY:Rock am Kaiserstuhl
DESCRIPTION:ROCK IM DOPPELPACK AM KAISERSTUHL \nBlue Elephants und Lauschangriff spielen Rockcoversongs von Klassikern bis hin zu aktuelleren Titeln am Samstag\, 23. März\, ab 19 Uhr in der „alten“ Schule in Leiselheim\, Lindenbuck 1. Dabei spannen die Rockbands den Bogen von Deep Purple\, Rolling Stones über Nirvana bis hin zu den Cranberries. \nDie Blue Elephants covern in klassischer Rock-Besetzung mit zwei Gitarren\, Keyboard\, Bass und Schlagzeug Hard Rock und Alternative aus den 60ern bis 90ern. Musik zum Schunkeln können andere besser! Rock-Fans kommen garantiert auf Ihre Kosten. \nLauschangriff sind 4 musikbegeisterte Jungs mit ihrer starken Frontfrau Alex. Sie rocken bereits seit einigen Jahren zu verschiedenen Festivitäten die Bühne und begeistern mit ihrer Leidenschaft für die Rockmusik aus den 90ern. \nDer Eintritt ist frei. Spenden erwünscht. \n \nWeitere Berichte: \nhttps://www.regionimblick.de/badisch-allerlei/sound-aus-baden/1335-rock-im-doppelpack-in-leiselheim-als-benefiz \nhttps://www.facebook.com/Rock-am-Kaiserstuhl-592522874494269/
URL:https://lauschangriff-lautgutlegal.de/veranstaltung/rock-am-kaiserstuhl
LOCATION:Rock am Kaiserstuhl\, Am Lindenbuck 1\, Sasbach am Kaiserstuhl\, Baden-Württemberg\, 79361\, Deutschland
ATTACH;FMTTYPE=image/png:https://lauschangriff-lautgutlegal.de/wp-content/uploads/2019/03/Rock-am-Kaiserstuhl-Plakat-Variante-6-small.png
END:VEVENT
END:VCALENDAR