BEGIN:VCALENDAR
VERSION:2.0
PRODID:-//Lauschangriff - Laut Gut Legal - ECPv6.14.0//NONSGML v1.0//EN
CALSCALE:GREGORIAN
METHOD:PUBLISH
X-ORIGINAL-URL:https://lauschangriff-lautgutlegal.de
X-WR-CALDESC:Veranstaltungen für Lauschangriff - Laut Gut Legal
REFRESH-INTERVAL;VALUE=DURATION:PT1H
X-Robots-Tag:noindex
X-PUBLISHED-TTL:PT1H
BEGIN:VTIMEZONE
TZID:UTC
BEGIN:STANDARD
TZOFFSETFROM:+0000
TZOFFSETTO:+0000
TZNAME:UTC
DTSTART:20190101T000000
END:STANDARD
END:VTIMEZONE
BEGIN:VEVENT
DTSTART;VALUE=DATE:20190111
DTEND;VALUE=DATE:20190112
DTSTAMP:20260423T153620
CREATED:20190911T140826Z
LAST-MODIFIED:20190911T140826Z
UID:397-1547164800-1547251199@lauschangriff-lautgutlegal.de
SUMMARY:Geburtstagsfeier
DESCRIPTION:
URL:https://lauschangriff-lautgutlegal.de/veranstaltung/geburtstagsfeier
LOCATION:Baden-Württemberg
ATTACH;FMTTYPE=image/jpeg:https://lauschangriff-lautgutlegal.de/wp-content/uploads/2019/09/Geburtstagsfeier-Black-Station-small.jpg
END:VEVENT
END:VCALENDAR