BEGIN:VCALENDAR
VERSION:2.0
PRODID:-//Lauschangriff - Laut Gut Legal - ECPv6.14.0//NONSGML v1.0//EN
CALSCALE:GREGORIAN
METHOD:PUBLISH
X-WR-CALNAME:Lauschangriff - Laut Gut Legal
X-ORIGINAL-URL:https://lauschangriff-lautgutlegal.de
X-WR-CALDESC:Veranstaltungen für Lauschangriff - Laut Gut Legal
REFRESH-INTERVAL;VALUE=DURATION:PT1H
X-Robots-Tag:noindex
X-PUBLISHED-TTL:PT1H
BEGIN:VTIMEZONE
TZID:UTC
BEGIN:STANDARD
TZOFFSETFROM:+0000
TZOFFSETTO:+0000
TZNAME:UTC
DTSTART:20180101T000000
END:STANDARD
END:VTIMEZONE
BEGIN:VEVENT
DTSTART;TZID=UTC:20181002T200000
DTEND;TZID=UTC:20181002T200000
DTSTAMP:20260423T204459
CREATED:20190319T130437Z
LAST-MODIFIED:20190319T130437Z
UID:327-1538510400-1538510400@lauschangriff-lautgutlegal.de
SUMMARY:Rock 'N' Wine 4.0
DESCRIPTION:
URL:https://lauschangriff-lautgutlegal.de/veranstaltung/rock-n-wine-4-0
LOCATION:Rock N Wine\, Wippertskirch 4\, Freiburg\, Baden-Württemberg\, 79112\, Deutschland
ATTACH;FMTTYPE=image/jpeg:https://lauschangriff-lautgutlegal.de/wp-content/uploads/2019/03/Rock-´N´-Wine-4.0-small.jpg
END:VEVENT
END:VCALENDAR